BEGIN:VCALENDAR
VERSION:2.0
PRODID:icalendar-ruby
CALSCALE:GREGORIAN
METHOD:PUBLISH
BEGIN:VEVENT
DTSTAMP:20260420T023744Z
UID:event-260452@stampinup.net
DTSTART;TZID=Australia/Sydney:20251018T100000
DTEND;TZID=Australia/Sydney:20251018T143000
CREATED:20250820T063518
DESCRIPTION:Do you want to get some Christmas Cards and Decorations ready e
 arly? Come and join in my next in person class.\n\nThis Class is to get to
 gether and Create some beautiful hand made cards/projects using the NEW Mo
 dern Christmas Suite Collection. You can see other ideas and product infor
 mation\, or to order your own products\,  in Online Exclusives on the web
 site Modern Christmas Suite Collection.\n\nCost $63 - includes a packet o
 f the LARGE GOLD HOOPS\n\nFor details and to register: Go to this form ht
 tps://forms.gle/qFP5i1ju1df7MEPq5 \nRegistrations close 23rd September 20
 25\n\nSee you at the class!\nFiona\n \n\nEvent link: https://stampinup.ne
 t/crm/events/260452
LAST-MODIFIED:20250910T205946
LOCATION:Pyrmont
ORGANIZER;CN=Fiona Fernandez:mailto:Byfihandcrafts@gmail.com
SUMMARY:Let's Create! . . Half Day Card Class - RSVP 23 Sept
URL;VALUE=URI:https://stampinup.net/crm/events/260452
END:VEVENT
END:VCALENDAR
