BEGIN:VCALENDAR
VERSION:2.0
PRODID:icalendar-ruby
CALSCALE:GREGORIAN
METHOD:PUBLISH
BEGIN:VEVENT
DTSTAMP:20260419T142055Z
UID:event-259740@stampinup.net
DTSTART;TZID=America/New_York:20260426T120000
DTEND;TZID=America/New_York:20260426T160000
CREATED:20250809T083456
DESCRIPTION:To participate in this quarter's session of Smiles Across the M
 iles you must confirm your participation by mailout day - the 15th of Apri
 l.\n\nYou can confirm your participation by RSVP'ing to this event\, by se
 nding an email to franctcreative@gmail.com\, or by direct message in faceb
 ook messenger.\n\nI hope you can join me because I'd love to see you onlin
 e!\n\nFrancine\n\nEvent link: https://stampinup.net/crm/events/259740
LAST-MODIFIED:20250809T084119
LOCATION:Online 
ORGANIZER;CN=Francine Turnbull:mailto:francineturnbull@hotmail.com
SUMMARY:Smiles Across the Miles
URL;VALUE=URI:https://stampinup.net/crm/events/259740
END:VEVENT
END:VCALENDAR
