BEGIN:VCALENDAR
VERSION:2.0
PRODID:icalendar-ruby
CALSCALE:GREGORIAN
METHOD:PUBLISH
BEGIN:VEVENT
DTSTAMP:20260422T100926Z
UID:event-259365@stampinup.net
DTSTART;TZID=America/Chicago:20250926T183000
DTEND;TZID=America/Chicago:20250926T223000
CREATED:20250804T105910
DESCRIPTION:This class is about all things Halloween! Cost is $30 and you w
 ill get a full pack of the Spooky Sweet Halloween DSP and the Shimmery Foa
 m Stars\, a $26 value! \nAt the event we will make 4 cards\, 1 banner\, a
 nd 1 3D project.\n\nEvent link: https://stampinup.net/crm/events/259365
LAST-MODIFIED:20250903T172457
LOCATION:The Roost\, 3025 Vega Ave Mayer
ORGANIZER;CN=Robyn Rasset:mailto:rrasset@frontier.com
SUMMARY:Halloween Hijinks
URL;VALUE=URI:https://stampinup.net/crm/events/259365
END:VEVENT
END:VCALENDAR
