BEGIN:VCALENDAR
VERSION:2.0
PRODID:icalendar-ruby
CALSCALE:GREGORIAN
METHOD:PUBLISH
BEGIN:VEVENT
DTSTAMP:20260420T232450Z
UID:event-25722@stampinup.net
DTSTART;TZID=America/New_York:20191213T100000
DTEND;TZID=America/New_York:20191213T120000
CREATED:20191121T191642
DESCRIPTION:This is a new group that meet each month and make cute cards to
 gether.  This month we will be making Christmas cards.\n\nEvent link: htt
 ps://stampinup.net/crm/events/25722
LAST-MODIFIED:20191121T191642
LOCATION:Harmony Reserve
ORGANIZER;CN=Frances Wagner:mailto:WAGSTAMPS@YAHOO.COM
SUMMARY:Harmony Card Class
URL;VALUE=URI:https://stampinup.net/crm/events/25722
END:VEVENT
END:VCALENDAR
