BEGIN:VCALENDAR
VERSION:2.0
PRODID:icalendar-ruby
CALSCALE:GREGORIAN
METHOD:PUBLISH
BEGIN:VEVENT
DTSTAMP:20260423T124837Z
UID:event-257114@stampinup.net
DTSTART;TZID=America/New_York:20260407T170000
DTEND;TZID=America/New_York:20260407T210000
CREATED:20250628T192947
DESCRIPTION:You are invited to this quarterly get together.  Bring whateve
 r craft project you are working on\, a snack to share and your comfiest cl
 othes.  This night is for crafting\, chatting and relaxing! Hope that you
  can join me!\n\nEvent link: https://stampinup.net/crm/events/257114
LAST-MODIFIED:20250628T192947
LOCATION:Crafting on Clearview Studio\, 508 Clearview Street\, Pottstown PA
  19464
ORGANIZER;CN=Kelli Wolfel:mailto:kstwaffle@comcast.net
SUMMARY:Quarterly Craft and Chat
URL;VALUE=URI:https://stampinup.net/crm/events/257114
END:VEVENT
END:VCALENDAR
