BEGIN:VCALENDAR
VERSION:2.0
PRODID:icalendar-ruby
CALSCALE:GREGORIAN
METHOD:PUBLISH
BEGIN:VEVENT
DTSTAMP:20260423T130318Z
UID:event-257108@stampinup.net
DTSTART;TZID=America/New_York:20260428T183000
DTEND;TZID=America/New_York:20260428T203000
CREATED:20250628T192026
DESCRIPTION:This group meets monthly on the last Tuesday of the month! We d
 o exclusive projects not found at any other of my events. You commit to pl
 acing a $30 order each month and one of us is the hostess and reaps all of
  the hostess benefits! If you would like to learn more about this group pl
 ease reach out! \n\nEvent link: https://stampinup.net/crm/events/257108
LAST-MODIFIED:20250628T192026
LOCATION:Crafting on Clearview Studio\, 508 Clearview Street\, Pottstown PA
  19464
ORGANIZER;CN=Kelli Wolfel:mailto:kstwaffle@comcast.net
SUMMARY:Monthly Hostess Club
URL;VALUE=URI:https://stampinup.net/crm/events/257108
END:VEVENT
END:VCALENDAR
