BEGIN:VCALENDAR
VERSION:2.0
PRODID:icalendar-ruby
CALSCALE:GREGORIAN
METHOD:PUBLISH
BEGIN:VEVENT
DTSTAMP:20260422T193534Z
UID:event-25529@stampinup.net
DTSTART;VALUE=DATE:20191205
DTEND;VALUE=DATE:20191205
CREATED:20191120T235414
DESCRIPTION:This is a fun casual stamp a stack class.  Stop in on your way
  home from work\, after you've gotten the kids home from school or you're 
 just looking for a fun night out. Need a quick birthday or thank you card
 ?  This is the perfect time to make them!  Only $2.50/card. Make as many
  as you like! There will be light snacks to tide you over til dinner. BYOB
   Pop in any time after 4pm.  Bring along your basic paper crafting kit 
 of adhesives\, scissors\, etc.  Stamp til you drop or the wine runs out o
 r 6:30pm arrives! This event is held on the 1st Thursday of every month.\n
 \nEvent link: https://stampinup.net/crm/events/25529
LAST-MODIFIED:20191120T235414
LOCATION:Sorry no Thirsty Thursday in December!
ORGANIZER;CN=Maurine Bibens:mailto:niteowlstampers@comcast.net
SUMMARY:THIRSTY THURSDAY
URL;VALUE=URI:https://stampinup.net/crm/events/25529
END:VEVENT
END:VCALENDAR
