BEGIN:VCALENDAR
VERSION:2.0
PRODID:icalendar-ruby
CALSCALE:GREGORIAN
METHOD:PUBLISH
BEGIN:VEVENT
DTSTAMP:20260422T022421Z
UID:event-254194@stampinup.net
DTSTART;VALUE=DATE:20250511
DTEND;VALUE=DATE:20250518
CREATED:20250509T120721
DESCRIPTION:Through hard work and dedication\, I am of the .01% of SU! Demo
 nstrators who earned the 2025 Stampin' Up! Incentive Trip to Walt Disney W
 orld in Orlando\, Florida. I'll be enjoying the week at WDW with my family
 .\n\nWhile away from my Stampin' Peace Studio\, I will be checking my emai
 ls once a day at the end of each day.\n\nEvent link: https://stampinup.net
 /crm/events/254194
LAST-MODIFIED:20250509T120721
ORGANIZER;CN=Mary Knabe:mailto:mknabe2008@gmail.com
SUMMARY:SU! Incentive Trip - Disney World 
URL;VALUE=URI:https://stampinup.net/crm/events/254194
END:VEVENT
END:VCALENDAR
