BEGIN:VCALENDAR
VERSION:2.0
PRODID:icalendar-ruby
CALSCALE:GREGORIAN
METHOD:PUBLISH
BEGIN:VEVENT
DTSTAMP:20260420T042625Z
UID:event-253837@stampinup.net
DTSTART;TZID=America/Chicago:20250508T150000
DTEND;TZID=America/Chicago:20250508T153000
CREATED:20250505T182522
DESCRIPTION:Celebrate someone special with this idea shared in our premiere
  video this week. \nJoin us Thursday\, May 8th\, on Facebook or YouTube\n
 4 PM ET\, 3 PM CT\, 2 PM MT\, 1 PM PT\n\nEvent link: https://stampinup.net
 /crm/events/253837
LAST-MODIFIED:20250505T182522
ORGANIZER;CN=Lisa Solis Brown:mailto:lisa@inkandinspirations.com
SUMMARY:Premiere: Gift Card Holders for Moms\, Grads\, Teachers\,  Nurses
URL;VALUE=URI:https://stampinup.net/crm/events/253837
END:VEVENT
END:VCALENDAR
