BEGIN:VCALENDAR
VERSION:2.0
PRODID:icalendar-ruby
CALSCALE:GREGORIAN
METHOD:PUBLISH
BEGIN:VEVENT
DTSTAMP:20260420T210407Z
UID:event-252505@stampinup.net
DTSTART;TZID=America/Chicago:20250414T193000
DTEND;TZID=America/Chicago:20250414T200000
CREATED:20250417T121657
DESCRIPTION:I'm live on my Facebook page most Monday evenings.  The video 
 will be posted to my YouTube channel as well.\n\nNOTE:  Facebook is delet
 ing live videos after 30 days.  Find them all on my YouTube channel\, Nor
 th Star Stamper.\n\nEvent link: https://stampinup.net/crm/events/252505
LAST-MODIFIED:20250417T121657
ORGANIZER;CN=Susan Kremer:mailto:tsvak.mn@netzero.net
SUMMARY:Facebook Live on My Page
URL;VALUE=URI:https://stampinup.net/crm/events/252505
END:VEVENT
END:VCALENDAR
