BEGIN:VCALENDAR
VERSION:2.0
PRODID:icalendar-ruby
CALSCALE:GREGORIAN
METHOD:PUBLISH
BEGIN:VEVENT
DTSTAMP:20260422T003336Z
UID:event-250251@stampinup.net
DTSTART;TZID=America/Chicago:20250515T163000
DTEND;TZID=America/Chicago:20250515T200000
CREATED:20250322T115531
DESCRIPTION:We will make 5 beautiful hand stamped cards. Price includes cho
 ice of one adhesive.\nTuesday\, May 13\, 2:00 - 5:00 pm\nThursday\, May 15
 \, 4:30 - 8:00 pm\nPrice $19\nChoose from: Mono Adhesive Refill\, Mono Mul
 ti Liquid Glue\, Mono Aqua Liquid Glue\, Double SidedTape 0.125” x 27yd\
 , Double SidedTape 0.25” x 60 yds\, Zig 2-way Glue Pen\nOr $20\nChoose f
 rom: Double SidedTape 0.25” x 27yd\, Mini Glue Dots\, Micro Glue Dots\, 
 Foam Tape Roll .375” x 13’\, Stampin’ Dimensionals\, Stampin’ Mini
  Dimensionals\nOr $22.50\nChoose from: Double SidedTape 0.5” x 27yd\, Xt
 reme Adhesive Refill\, Xyron 150 Adhesive Refill\, Wink of Stella\n\nReser
 ve your spot now! DEADLINE TO REGISTER IS April 24.\nBring your adhesives
  and Basic Tool Kit. Please put your name on all your items. Adhesives wil
 l also be available for purchase at class.\n\nEvent link: https://stampinu
 p.net/crm/events/250251
LAST-MODIFIED:20250328T141429
ORGANIZER;CN=Susan Miller:mailto:STAMPIN@DREAMLAKEDESIGN.COM
SUMMARY:May Stampin' Class
URL;VALUE=URI:https://stampinup.net/crm/events/250251
END:VEVENT
END:VCALENDAR
