BEGIN:VCALENDAR
VERSION:2.0
PRODID:icalendar-ruby
CALSCALE:GREGORIAN
METHOD:PUBLISH
BEGIN:VEVENT
DTSTAMP:20260419T184946Z
UID:event-249589@stampinup.net
DTSTART;TZID=America/Chicago:20250303T193000
DTEND;TZID=America/Chicago:20250303T200000
CREATED:20250309T001924
DESCRIPTION:\n\nEvent link: https://stampinup.net/crm/events/249589
LAST-MODIFIED:20250309T001924
ORGANIZER;CN=Susan Kremer:mailto:tsvak.mn@netzero.net
SUMMARY:Facebook Live!
URL;VALUE=URI:https://stampinup.net/crm/events/249589
END:VEVENT
END:VCALENDAR
