BEGIN:VCALENDAR
VERSION:2.0
PRODID:icalendar-ruby
CALSCALE:GREGORIAN
METHOD:PUBLISH
BEGIN:VEVENT
DTSTAMP:20260420T080607Z
UID:event-248678@stampinup.net
DTSTART;TZID=America/New_York:20250326T130000
DTEND;TZID=America/New_York:20250326T150000
CREATED:20250224T100333
DESCRIPTION:You will make 5 beautiful Springtime cards in this class ready 
 to send for Easter or any occasion you choose. We will use the Floral Deli
 ght Suite of products to make these delightful cards! \n\nCost: $15 or fr
 ee with a $30 or more day of class\nRSVP by: March 14\nPlease bring your o
 wn adhesives to class\n\nEvent link: https://stampinup.net/crm/events/2486
 78
LAST-MODIFIED:20250224T100333
LOCATION:Debbie's Studio
ORGANIZER;CN=Debbie Lever:mailto:DFLEVER@COMCAST.NET
SUMMARY:Spring/Easter Cards
URL;VALUE=URI:https://stampinup.net/crm/events/248678
END:VEVENT
END:VCALENDAR
