BEGIN:VCALENDAR
VERSION:2.0
PRODID:icalendar-ruby
CALSCALE:GREGORIAN
METHOD:PUBLISH
BEGIN:VEVENT
DTSTAMP:20260423T101647Z
UID:event-248662@stampinup.net
DTSTART;TZID=America/New_York:20250319T100000
DTEND;TZID=America/New_York:20250319T120000
CREATED:20250224T080029
DESCRIPTION:Paper Pumpkin and Online Exclusive Kits class.  Working on lef
 tover materials from all past kits.  You make as many cards as you want\,
  when class is over at 12:00 you will be able to pick 3 of the kits and ta
 ke all of the leftover materials.  Materials usually incluce a Stampin' S
 pot\, stamp set\, and left over die cuts\, cards\, etc.   Fee for class 
 is $25.00.\n\nEvent link: https://stampinup.net/crm/events/248662
LAST-MODIFIED:20250224T080029
LOCATION:My home\, 4550 FIR DR
ORGANIZER;CN=Eileen Lang:mailto:Eilang56@aol.com
SUMMARY:Kit Classs
URL;VALUE=URI:https://stampinup.net/crm/events/248662
END:VEVENT
END:VCALENDAR
