BEGIN:VCALENDAR
VERSION:2.0
PRODID:icalendar-ruby
CALSCALE:GREGORIAN
METHOD:PUBLISH
BEGIN:VEVENT
DTSTAMP:20260425T025833Z
UID:event-24750@stampinup.net
DTSTART;TZID=America/New_York:20191204T183000
DTEND;TZID=America/New_York:20191204T213000
CREATED:20191117T133902
DESCRIPTION:My wonderful team of Stampin' Up! Demonstrators\, the Merry Sta
 mpers\, will be gather for our 2020 Holiday Party. We'll enjoy food\, frie
 ndship\, gift exchange\, and a surprise.\n\nEvent link: https://stampinup.
 net/crm/events/24750
LAST-MODIFIED:20191117T133902
ORGANIZER;CN=Mary Knabe:mailto:mknabe2008@gmail.com
SUMMARY:Merry Stampers Team Party
URL;VALUE=URI:https://stampinup.net/crm/events/24750
END:VEVENT
END:VCALENDAR
