BEGIN:VCALENDAR
VERSION:2.0
PRODID:icalendar-ruby
CALSCALE:GREGORIAN
METHOD:PUBLISH
BEGIN:VEVENT
DTSTAMP:20260425T190510Z
UID:event-247376@stampinup.net
DTSTART;TZID=America/Chicago:20250221T180000
DTEND;TZID=America/Chicago:20250221T200000
CREATED:20250205T092819
DESCRIPTION:Need to get away from it all and get together with other enjoya
 ble crafting people?  Come for my Sip &amp\; Kit Together night!  It’s
  a No Worries kind of event.  You can attend in person or via Zoom! \n\n
 And of course\, what’s the StampAfterSunrise fun twist?   How about a M
 ocktail of the month!  Because crafting with friends is even better with 
 a fun little umbrella drink in hand.  This is the perfect getaway from al
 l the hassles and worries of the week.  It’s exactly what you need…a 
 little fun in your life!\n\nAttend in person\, you can choose your kit fro
 m my stash of kits or I can order the kit of your choosing.  Attend via Z
 oom\, you simply order your kit of choice from my Online Store 2 weeks pri
 or to the event (allowing for shipping).\n\n\nEvent link: https://stampinu
 p.net/crm/events/247376
LAST-MODIFIED:20250205T092819
LOCATION:Angela's Home & Zoom
ORGANIZER;CN=Angela Waters:mailto:aftersunrise@hotmail.com
SUMMARY:Let's Sip & Kit Together
URL;VALUE=URI:https://stampinup.net/crm/events/247376
END:VEVENT
END:VCALENDAR
