BEGIN:VCALENDAR
VERSION:2.0
PRODID:icalendar-ruby
CALSCALE:GREGORIAN
METHOD:PUBLISH
BEGIN:VEVENT
DTSTAMP:20260421T014534Z
UID:event-247211@stampinup.net
DTSTART;TZID=America/New_York:20250321T180000
DTEND;TZID=America/New_York:20250321T204500
CREATED:20250204T094558
DESCRIPTION:Want to make handmade greeting cards? Come join me for the next
  Quick &amp\; Cute Card Class at the Tett Creativity Centre in Kingston
  on Friday\, March 21 from 6:00-8:45pm. Class will be held in the Act
 ivity Room\, Room #108. \n\nCost is $36 ($31.86 + HST) and includes the 
 Terrific Toadstools* stamp set and all the consumable products needed to c
 reate 6 handmade greeting cards (3 designs\, 2 cards of each design)!  \
 n\nRegistration for the class ends on March 10 to allow for ordering\, an
 d pre-paid registration is required to hold your spot.  Want the kit but 
 can't attend the class?  Let us know\, and we can arrange to ship your ki
 t to you after the class!  Please note that for shipped kits\, adhesive 
 and ink is not included.\n\nSpace is limited\, pre-registration is require
 d. Register online at: https://stampandcreatewithlisa.net/collections/eve
 nts\n\nFood and drink are available for purchase from the Juniper Cafe un
 til 6pm if you are interested!  Make it the ultimate night out and grab a
  few friends for dinner &amp\; crafts! Parking is free in the evenings. W
 e will be located in the basement level of the building which is accessibl
 e by elevator or by stairs! Unable to make the class? This class will als
 o be available in a to-go format!\n\n*Although stamp sets are rarely back-
 ordered\, in the event that the specified stamp set is unavailable on the
  registration date\, another stamp set of equivalent value will be substi
 tuted. In the event of a lockdown\, if the lockdown is announced prior to
  the registration date (when materials are ordered)\, event fees will be
  refunded. If a lockdown is announced between the registration date and t
 he class (after materials are ordered)\, the class will be moved to an on
 line format. Please note that the same cut-offs apply for cancellations of
  any kind as this class is product-based.\n\n\nEvent link: https://stampin
 up.net/crm/events/247211
LAST-MODIFIED:20250204T094558
LOCATION:Tett Centre for Creativity and Learning\, Activity Room #108\, 370
  King St W\, Kingston\, ON K7L 2X4
ORGANIZER;CN=Lisa Henderson:mailto:lisa.henderson003@gmail.com
SUMMARY:March Quick & Cute Card Class
URL;VALUE=URI:https://stampinup.net/crm/events/247211
END:VEVENT
END:VCALENDAR
