BEGIN:VCALENDAR
VERSION:2.0
PRODID:icalendar-ruby
CALSCALE:GREGORIAN
METHOD:PUBLISH
BEGIN:VEVENT
DTSTAMP:20260421T001512Z
UID:event-247177@stampinup.net
DTSTART;TZID=America/Chicago:20250217T193000
DTEND;TZID=America/Chicago:20250217T200000
CREATED:20250203T224313
DESCRIPTION:Free card kits with $35+ purchase \nfor orders February 17-23\
 , 2025\n\nEvent link: https://stampinup.net/crm/events/247177
LAST-MODIFIED:20250203T224544
ORGANIZER;CN=Susan Kremer:mailto:tsvak.mn@netzero.net
SUMMARY:Facebook Live!  Free Class with Purchase
URL;VALUE=URI:https://stampinup.net/crm/events/247177
END:VEVENT
END:VCALENDAR
