BEGIN:VCALENDAR
VERSION:2.0
PRODID:icalendar-ruby
CALSCALE:GREGORIAN
METHOD:PUBLISH
BEGIN:VEVENT
DTSTAMP:20260421T051751Z
UID:event-246956@stampinup.net
DTSTART;VALUE=DATE:20250313
DTEND;VALUE=DATE:20250315
CREATED:20250201T145002
DESCRIPTION:\n\nEvent link: https://stampinup.net/crm/events/246956
LAST-MODIFIED:20250201T145002
LOCATION:Raleigh Convention Center\, Raleigh\, NC
ORGANIZER;CN=Tracie Langley:mailto:tracie@stampwithtracie.com
SUMMARY:Stampin' Up! OnStage
URL;VALUE=URI:https://stampinup.net/crm/events/246956
END:VEVENT
END:VCALENDAR
