BEGIN:VCALENDAR
VERSION:2.0
PRODID:icalendar-ruby
CALSCALE:GREGORIAN
METHOD:PUBLISH
BEGIN:VEVENT
DTSTAMP:20260421T114951Z
UID:event-246671@stampinup.net
DTSTART;TZID=America/New_York:20250425T120000
DTEND;TZID=America/New_York:20250425T140000
CREATED:20250129T143909
DESCRIPTION:If you live in Cresswinds at the Ponds in Summerville\, SC you 
 will receive an email with the information and registration links.\n\nEven
 t link: https://stampinup.net/crm/events/246671
LAST-MODIFIED:20250129T143909
LOCATION:Summerville\, SC
ORGANIZER;CN=Sonia Bernard:mailto:soniab@linkedbyink.com
SUMMARY:Cresswinds Private Card Class
URL;VALUE=URI:https://stampinup.net/crm/events/246671
END:VEVENT
END:VCALENDAR
