BEGIN:VCALENDAR
VERSION:2.0
PRODID:icalendar-ruby
CALSCALE:GREGORIAN
METHOD:PUBLISH
BEGIN:VEVENT
DTSTAMP:20260421T100027Z
UID:event-246622@stampinup.net
DTSTART;TZID=America/New_York:20250223T110000
DTEND;TZID=America/New_York:20250223T150000
CREATED:20250129T094307
DESCRIPTION:This retreat is for anyone looking for a fun-filled day shared 
 with other crafty friends.  Right now Stampin' Up! is offering so many ne
 w and wonderful products\, and they are from lots of different resources.
   \n\nDuring the retreat we will make two cards from products in the Jan
 uary - April Mini Catalog\; 2 cards with products from the Scrapbooking Br
 ochure\; and two cards highlighting products from the Online Exclusive off
 erings.   PLUS there will be  two bonus projects made using FREE Sale-a
 -Bration items.  That's a total of eight awesome cards/projects.  I will
  also share a few new techniques and fun folds.  AND I have updated the R
 R displays with over 75 new cards.  Be sure to bring your camera!\n\nCost
  for the Retreat is $50 and includes over $25 in product\; two table gifts
 \, door prizes\, prize patrol\, games\, snacks and a raffle.  Payment is 
 due with registration.  Space is limited\, so be sure to register early t
 o hold your spot.  To register email me at:  ckolly@stampingismybusiness
 .com\nPayment can be made via PayPal:  ckolly@stampingismybusiness.com \
 nor Venmo:  Chris Kolly\n\nEvent link: https://stampinup.net/crm/events/2
 46622
LAST-MODIFIED:20250211T120830
LOCATION:The Rubber Room\, 517 Augusta Drive\, Rochester Hills\, MI  48309
ORGANIZER;CN=Christine Kolly:mailto:ckolly@stampingismybusiness.com
SUMMARY:RR WINTER RETREAT
URL;VALUE=URI:https://stampinup.net/crm/events/246622
END:VEVENT
END:VCALENDAR
