BEGIN:VCALENDAR
VERSION:2.0
PRODID:icalendar-ruby
CALSCALE:GREGORIAN
METHOD:PUBLISH
BEGIN:VEVENT
DTSTAMP:20260423T131052Z
UID:event-246233@stampinup.net
DTSTART;TZID=America/New_York:20250222T090000
DTEND;TZID=America/New_York:20250222T180000
CREATED:20250126T085159
DESCRIPTION:This is a fun filled crop/craft day with a fun make n take\,\na
 nd a little mystery bag. \nLunch is potluck.  \nI will have coffee\, te
 a and water.  I will also provide paper plates and cutlery. \nCost is on
 ly $20.00 \n\nThings to bring: \nYour crafting project and your tools an
 d adhesives. \nA small dish for potluck\nYour serving spoon or tongs for 
 your dish. \nPlease bring your reuseable/travel mug with a lid for coffee
  or tea. \nPlease register soon  as space is limited.  \n\nEvent link:
  https://stampinup.net/crm/events/246233
LAST-MODIFIED:20250126T085159
LOCATION:CraftD Cave (Denise's Home)\, Woodstock\, Ontario
ORGANIZER;CN=Denise Donald:mailto:craftdbear@rogers.com
SUMMARY:CraftD Crop & Craft Day
URL;VALUE=URI:https://stampinup.net/crm/events/246233
END:VEVENT
END:VCALENDAR
