BEGIN:VCALENDAR
VERSION:2.0
PRODID:icalendar-ruby
CALSCALE:GREGORIAN
METHOD:PUBLISH
BEGIN:VEVENT
DTSTAMP:20260424T094200Z
UID:event-246217@stampinup.net
DTSTART;VALUE=DATE:20250214
DTEND;VALUE=DATE:20250214
CREATED:20250126T042158
DESCRIPTION:I am part of a camping group Sisters on the Fly and we are camp
 ing at Dauphin Island for Galentines and Mardi Gras celebrations. \n\nEve
 nt link: https://stampinup.net/crm/events/246217
LAST-MODIFIED:20250126T042158
ORGANIZER;CN=Patience Holt:mailto:patienceholt@gmail.com
SUMMARY:Dauphin Island Camping 
URL;VALUE=URI:https://stampinup.net/crm/events/246217
END:VEVENT
END:VCALENDAR
