BEGIN:VCALENDAR
VERSION:2.0
PRODID:icalendar-ruby
CALSCALE:GREGORIAN
METHOD:PUBLISH
BEGIN:VEVENT
DTSTAMP:20260425T012356Z
UID:event-242926@stampinup.net
DTSTART;TZID=America/New_York:20250107T100000
DTEND;TZID=America/New_York:20250107T110000
CREATED:20250101T085659
DESCRIPTION:Let me take you on a virtual tour of the Jan - April Mini Catal
 og\, Sale-A-Bration Brochure\, and Scrapbooking Brochure. Loads of new pro
 ducts to inspire your creativity. Join me on FB at Stampin' Peace with Mar
 y Knabe at 10am ET.\n\nEvent link: https://stampinup.net/crm/events/242926
LAST-MODIFIED:20250101T085659
LOCATION:FB Stampin' Peace with Mary Knabe
ORGANIZER;CN=Mary Knabe:mailto:mknabe2008@gmail.com
SUMMARY:FB LIVE SPECIAL EDITION - New Catalog Walk Thru
URL;VALUE=URI:https://stampinup.net/crm/events/242926
END:VEVENT
END:VCALENDAR
