BEGIN:VCALENDAR
VERSION:2.0
PRODID:icalendar-ruby
CALSCALE:GREGORIAN
METHOD:PUBLISH
BEGIN:VEVENT
DTSTAMP:20260422T022059Z
UID:event-242532@stampinup.net
DTSTART;TZID=America/New_York:20250221T193000
DTEND;TZID=America/New_York:20250223T180000
CREATED:20241228T195306
DESCRIPTION:A fun filled weekend of fun! Come join me for a weekend complet
 e with multiple projects and laughter!\n\nContact me at bonniestamped@gmai
 l.com for more details\n\nEvent link: https://stampinup.net/crm/events/242
 532
LAST-MODIFIED:20241228T205236
LOCATION:courtyard marriott hotel\, central islip
ORGANIZER;CN=Bonnie Allers-O'Neill:mailto:bonniestamp@yahoo.com
SUMMARY:Bonnie's Winter Retreat!
URL;VALUE=URI:https://stampinup.net/crm/events/242532
END:VEVENT
END:VCALENDAR
