BEGIN:VCALENDAR
VERSION:2.0
PRODID:icalendar-ruby
CALSCALE:GREGORIAN
METHOD:PUBLISH
BEGIN:VEVENT
DTSTAMP:20260421T112925Z
UID:event-242496@stampinup.net
DTSTART;VALUE=DATE:20250414
DTEND;VALUE=DATE:20250414
CREATED:20241228T160831
DESCRIPTION:Do you love to craft and are you looking for a kit that ships d
 irectly to you each month with special perks each month? Then you will LOV
 E “YOUR CREATIVITY AWAITS”!  \n\nWith “Your Creativity Awaits”\,
  each month you will receive an exclusive make and take kit with 6 cards 
 plus a PDF Tutorial.  All for only $60 per month shipped directly to you
  or $56 local pick up.\n\nEach month\, the Design Team will choose one st
 amp set or bundle and design fun projects for you to create.  The stamps
 et is included in your kit. If you don't already own the dies or punch\, y
 ou may add it to your kit or use what you have. \n\nAs a member of Your C
 reativity Awaits\, each month you'll enjoy the following:\n• Featured st
 amp set\n\n• 6 cards - designed by Your Creativity Awaits Team\n\n• Ex
 clusive Project tutorials you can follow along with to create your cards\n
 \n• Extra product (value will depend on the price of the stamp set)\n\nR
 egister\n \n\n\nEvent link: https://stampinup.net/crm/events/242496
LAST-MODIFIED:20241228T160831
ORGANIZER;CN=Melva Peters:mailto:stampinwithmelva@gmail.com
SUMMARY:Your Creativity Awaits Kit - Registration closes
URL;VALUE=URI:https://stampinup.net/crm/events/242496
END:VEVENT
END:VCALENDAR
