BEGIN:VCALENDAR
VERSION:2.0
PRODID:icalendar-ruby
CALSCALE:GREGORIAN
METHOD:PUBLISH
BEGIN:VEVENT
DTSTAMP:20260422T031605Z
UID:event-242446@stampinup.net
DTSTART;TZID=America/New_York:20250315T090000
DTEND;TZID=America/New_York:20250315T110000
CREATED:20241228T111242
DESCRIPTION:Come and make 10 ( 2 each of 5 designs ) all occasion cards. Yo
 u will leave with a stack of cards ready to send! \n\nPlease bring your o
 wn adhesives to class including dimensionals.\n\nCost: $25 or free with a 
 $40 or more order day of class\nRSVP by: February 28\, 2025\n\nEvent link:
  https://stampinup.net/crm/events/242446
LAST-MODIFIED:20250106T091424
LOCATION:Debbies Studio
ORGANIZER;CN=Debbie Lever:mailto:DFLEVER@COMCAST.NET
SUMMARY:All Occasion Stamp A Stack
URL;VALUE=URI:https://stampinup.net/crm/events/242446
END:VEVENT
END:VCALENDAR
