BEGIN:VCALENDAR
VERSION:2.0
PRODID:icalendar-ruby
CALSCALE:GREGORIAN
METHOD:PUBLISH
BEGIN:VEVENT
DTSTAMP:20260423T142453Z
UID:event-241432@stampinup.net
DTSTART;VALUE=DATE:20241210
DTEND;VALUE=DATE:20241210
CREATED:20241211T124014
DESCRIPTION:I add a simple stamping project to my blog on the 10th of every
  month!\n\nThis link will get you to my personal website.  Do a Search (w
 ith the eyeglass) on 'simple' to find my most recent blog posts.\n\nNorth 
 Star Stamper\n\nEvent link: https://stampinup.net/crm/events/241432
LAST-MODIFIED:20241211T124014
ORGANIZER;CN=Susan Kremer:mailto:tsvak.mn@netzero.net
SUMMARY:Monthly Simple Stamping Project
URL;VALUE=URI:https://stampinup.net/crm/events/241432
RRULE:FREQ=MONTHLY;COUNT=10
END:VEVENT
END:VCALENDAR
