BEGIN:VCALENDAR
VERSION:2.0
PRODID:icalendar-ruby
CALSCALE:GREGORIAN
METHOD:PUBLISH
BEGIN:VEVENT
DTSTAMP:20260425T144504Z
UID:event-241352@stampinup.net
DTSTART;TZID=America/New_York:20250123T180000
DTEND;TZID=America/New_York:20250123T210000
CREATED:20241209T174543
DESCRIPTION:You're invited to have some fun with me!\n\nCome to Bingo Night
 .....Stampin' Style!\n\nChance to win LOTS of Sale-a-Bration &amp\; Spring
  Mini Catalog product - get it for FREE tonight instead of buying it!! 
 \n\nWe'll play 6 or more games of Bingo with hundreds of dollars in prizes
  to be won from the new Catalogs!!  \n\nPLUS...  pillow gifts\, a gift c
 ertificate toward an order that night   \n\nAND...\n\na GRAND PRIZE COVE
 RALL GAME!!  - the winner receives a  Stampin' Up shopping spree!!\n\nTh
 e winner at the last bingo night went home with $100 in FREE PRODUCT!!\n\n
 Bring a friend along and have an enjoyable night out!\n\nPlus you'll make 
 2 projects that night...so you're ALL winners!\n\nCost is $35.00\n\n(Chanc
 e to win lots of awesome prizes!)\n\nSpace is limited!\n\n \n\nRSVP and P
 RE-PAY by Monday\, January 13.\n\n(so I have time to get all the prizes he
 re!)\n\nDon't forget your scissors and adhesive.\n\n\nEvent link: https://
 stampinup.net/crm/events/241352
LAST-MODIFIED:20241209T174543
LOCATION:Peace Lutheran Church\, 325 E Warwick Dr.   Alma\, MI  48801
ORGANIZER;CN=Amy Frillici:mailto:amy.frillici@yahoo.com
SUMMARY:Bingo Night Stampin’ Style
URL;VALUE=URI:https://stampinup.net/crm/events/241352
END:VEVENT
END:VCALENDAR
