BEGIN:VCALENDAR
VERSION:2.0
PRODID:icalendar-ruby
CALSCALE:GREGORIAN
METHOD:PUBLISH
BEGIN:VEVENT
DTSTAMP:20260422T041752Z
UID:event-241257@stampinup.net
DTSTART;TZID=Europe/London:20250201T100000
DTEND;TZID=Europe/London:20250201T180000
CREATED:20241208T152510
DESCRIPTION:Join me for a day of crafty fun - bring along your own craft pr
 ojects (anything goes!) and spend the day with like minded people. \n\nTh
 e cost to attend this day is £12 and includes light refreshments thoughou
 t the day.  \n\nSpace is limited so booking is essential and payment is 
 required to confirm your place.  \n\nFor more information\, or to book y
 our place please email me at stampinwithstaceymarsh@gmail.com\n\nEvent lin
 k: https://stampinup.net/crm/events/241257
LAST-MODIFIED:20241208T152510
LOCATION:Newington Village Hall\, High Street\, Newington\, Kent ME9 7JJ
ORGANIZER;CN=Stacey Marsh:mailto:stampinwithstaceymarsh@gmail.com
SUMMARY:Craft Social Day
URL;VALUE=URI:https://stampinup.net/crm/events/241257
END:VEVENT
END:VCALENDAR
