BEGIN:VCALENDAR
VERSION:2.0
PRODID:icalendar-ruby
CALSCALE:GREGORIAN
METHOD:PUBLISH
BEGIN:VEVENT
DTSTAMP:20260425T181005Z
UID:event-240921@stampinup.net
DTSTART;TZID=America/Halifax:20250220T193000
DTEND;TZID=America/Halifax:20250220T210000
CREATED:20241204T133034
DESCRIPTION:We'll make 3 seashore-themed cards! Featuring the Ocean Friends
  Bundle. (Dies optional.)\n\nInks: Calypso Coral\, Petal Pink\, Bubble Bat
 h\, Melon Mambo\, Pool Party &amp\; Summer Splash.\n\nEvent includes pre-c
 ut card packets PLUS $25 goodie bag to keep on crafting after the gatherin
 g.\n\nCost: $42.\nShipping to your door: Add $8.50.\nPick-up in St Stephen
 : no shipping charge!\n\nSign up by Dec 10 &amp\; receive a FREE gift! 1 f
 ree gift per person for the month's total event registrations.\n\nRSVP her
 e by January 6\n\nEvent link: https://stampinup.net/crm/events/240921
LAST-MODIFIED:20250102T123012
LOCATION:Online
ORGANIZER;CN=Julie Golding Page:mailto:julies.craft.attic@gmail.com
SUMMARY:Ocean Friends Card Event
URL;VALUE=URI:https://stampinup.net/crm/events/240921
END:VEVENT
END:VCALENDAR
