BEGIN:VCALENDAR
VERSION:2.0
PRODID:icalendar-ruby
CALSCALE:GREGORIAN
METHOD:PUBLISH
BEGIN:VEVENT
DTSTAMP:20260420T053621Z
UID:event-240308@stampinup.net
DTSTART;TZID=America/New_York:20250110T180000
DTEND;TZID=America/New_York:20250110T204500
CREATED:20241126T133610
DESCRIPTION:Want to make SCRAPBOOK layouts? Come join me for the next Quic
 k &amp\; Cute SCRAPBOOK Class at Tett Creativity Centre in Kingston on 
 Friday\, January 10th from 6:00-8:45pm. Class will be held in the Activi
 ty Room\, Room #108.\n\nCost is $36 ($31.86 + HST) and includes the Birth
 day Celebration* stamp set and all the consumable products needed to creat
 e 3 12x12 scrapbook layouts (3 designs\, 1 of each design)!\n\nRegistratio
 n for the class ends on December 30th to allow for ordering\, and pre-pa
 id registration is required to hold your spot.   Want the kit but can't 
 attend the class  Let us know\, and we can arrange to ship your kit to yo
 u after the class!  Please note that for shipped kits\, adhesive and ink 
 is not included.\n\nSpace is limited\, pre-registration is required.\n\nFo
 od and drink are available for purchase from the Juniper Cafe until 6pm i
 f you are interested!  Make it the ultimate night out and grab a few frie
 nds for dinner &amp\; crafts! Parking is free in the evenings. We will be 
 located in the basement level of the building which is accessible by elev
 ator or by stairs! Unable to make the class? This class will also be avai
 lable in a to-go format!\n\n*Although stamp sets are rarely back-ordered\,
  in the event that the specified stamp set is unavailable on the registrat
 ion date\, another stamp set of equivalent value will be substituted. In 
 the event of a lockdown\, if the lockdown is announced prior to the regis
 tration date (when materials are ordered)\, event fees will be refunded. 
 If a lockdown is announced between the registration date and the class (
 after materials are ordered)\, the class will be moved to an online format
 . Please note that the same cut-offs apply for cancellations of any kind a
 s this class is product-based.\n\nPlease note that a ticket will not be em
 ailed. The receipt of payment is automatically recorded. If you are planni
 ng to attend with a group and want to be seated together\, please let us k
 now!\n\nRegister online at: https://stampandcreatewithlisa.net/collection
 s/events\n\n\nEvent link: https://stampinup.net/crm/events/240308
LAST-MODIFIED:20241129T112239
LOCATION:Tett Centre for Creativity and Learning\,  Activity Room #108\, 37
 0 King St W\, Kingston\, ON K7L 2X4
ORGANIZER;CN=Lisa Henderson:mailto:lisa.henderson003@gmail.com
SUMMARY:January Quick & Cute Scrapbook Class
URL;VALUE=URI:https://stampinup.net/crm/events/240308
END:VEVENT
END:VCALENDAR
