BEGIN:VCALENDAR
VERSION:2.0
PRODID:icalendar-ruby
CALSCALE:GREGORIAN
METHOD:PUBLISH
BEGIN:VEVENT
DTSTAMP:20260423T194349Z
UID:event-240292@stampinup.net
DTSTART;TZID=America/Chicago:20250116T120000
DTEND;TZID=America/Chicago:20250116T130000
CREATED:20241126T095622
DESCRIPTION:\n\nEvent link: https://stampinup.net/crm/events/240292
LAST-MODIFIED:20241126T095622
LOCATION:Facebook Live\, Crew Stamper's Forum
ORGANIZER;CN=Sandy Risi:mailto:sjrisix@aol.com
SUMMARY:Online Card Class
URL;VALUE=URI:https://stampinup.net/crm/events/240292
END:VEVENT
END:VCALENDAR
