BEGIN:VCALENDAR
VERSION:2.0
PRODID:icalendar-ruby
CALSCALE:GREGORIAN
METHOD:PUBLISH
BEGIN:VEVENT
DTSTAMP:20260425T181415Z
UID:event-239815@stampinup.net
DTSTART;VALUE=DATE:20250125
DTEND;VALUE=DATE:20250125
CREATED:20241119T094516
DESCRIPTION:This quarterly event is a chance for the Stamp &amp\; Create Te
 am to gather online and get some new creative ideas and learn what is new 
 with Stampin' Up!\n\n\nEvent link: https://stampinup.net/crm/events/239815
LAST-MODIFIED:20241119T094516
LOCATION:Online
ORGANIZER;CN=Lisa Henderson:mailto:lisa.henderson003@gmail.com
SUMMARY:SSS Super Team Event
URL;VALUE=URI:https://stampinup.net/crm/events/239815
END:VEVENT
END:VCALENDAR
