BEGIN:VCALENDAR
VERSION:2.0
PRODID:icalendar-ruby
CALSCALE:GREGORIAN
METHOD:PUBLISH
BEGIN:VEVENT
DTSTAMP:20260420T005903Z
UID:event-239724@stampinup.net
DTSTART;TZID=America/New_York:20241214T093000
DTEND;TZID=America/New_York:20241214T123000
CREATED:20241117T173529
DESCRIPTION:\n\nI would like to invite you to my December 14\, 2024 Creat
 ive Therapy Card Making Class.\n \n\nI am offering five cards\, and I ho
 pe your schedule will permit you to come and play with some cardstock\, i
 nk &amp\; rubber stamps and fellowship with others who have the same comm
 on interest-paper crafting.  To see examples of my cards and projects\,
  please visit my blog at:  www.devotedstamper.com\nSchedule is as follow
 s:\n\n \n\n\n\n\nTuesday\, December 10\, 2024\,  from 9:30 to 12:30\nS
 aturday\, December 14\, 2024\, from 9:30 to 12:30\n\n\n\nAll classes ar
 e held in my stamping studio at my home at 555 Williamsdale Road\, Graham
 \, NC 27253. \nThe cost of this class is $22.00\, and you bring your ow
 n adhesives\, or $27.00 and I provide your adhesives. \n\nThere are no ad
 ditional class fees\, and the fun and fellowship are free.  \n \n\n Ple
 ase RSVP and prepay no later than November 21\, 2024\, so that I have ad
 equate time to prepare.  SPACED IS VERY LIMITED\, AND FIRST COME\, FIRST 
 SERVED.  \n\nYou may prepay by PayPal thru Family &amp\; Friends\, or by
  mailing a check to me at: \n555 Williamsdale Road\, Graham\, NC 27253.
   \nYour space is confirmed when payment is received.  \n\nIf you cann
 ot attend after payment is received\, and I have prepared your kits\, we 
 can make arrangements for you to pick up your kits.\n\n\n	If you would lik
 e the cards kits and cannot attend\, I offer Kits-to-Go.  See details be
 low:\n\n	\n		Kits-to-go $22.00\, and porch pick-up.\n		Kits-to-Go\, mailed
  to you\,  $30.00\n	\n	\n\n\nIf you have any questions\, please do not he
 sitate to contact me either by phone or text: 336-260-2173\, or email
  angelsofjoy@gmail.com.\n\n\n\nLinda Fisher\nStampin' Up! Demonstrator\n\
 n\n\n\n\n\n\n\n \n\n\n\n\nEvent link: https://stampinup.net/crm/events/23
 9724
LAST-MODIFIED:20241117T173529
LOCATION:My Home\, 555 Williamsdale Road\, Graham\, NC 27253
ORGANIZER;CN=Linda Fisher:mailto:angelsofjoy@gmail.com
SUMMARY:DECEMBER 14\, 2024\, Creative Therapy Card Making Class
URL;VALUE=URI:https://stampinup.net/crm/events/239724
END:VEVENT
END:VCALENDAR
