BEGIN:VCALENDAR
VERSION:2.0
PRODID:icalendar-ruby
CALSCALE:GREGORIAN
METHOD:PUBLISH
BEGIN:VEVENT
DTSTAMP:20260421T133708Z
UID:event-239495@stampinup.net
DTSTART;TZID=America/New_York:20241119T160000
DTEND;TZID=America/New_York:20241119T170000
CREATED:20241113T060539
DESCRIPTION:This afternoon\, I will be meeting with Katherine and her teach
 er friends for an after school class.....but this class is pure fun and no
  grades to be given!   We will be making a couple of fun cards that ever
 yone will be proud to send.\n\nIf you are intersted in a private class wit
 h your friends or co-workers...or your co-worker friends(!)\, reach out an
 d we can set that up!\n\nEvent link: https://stampinup.net/crm/events/2394
 95
LAST-MODIFIED:20241113T060539
LOCATION:Katherine's School
ORGANIZER;CN=Betty Saccocia:mailto:BETTY@POWEROFPOSITIVEINKING.COM
SUMMARY:Katherine's Class
URL;VALUE=URI:https://stampinup.net/crm/events/239495
END:VEVENT
END:VCALENDAR
