BEGIN:VCALENDAR
VERSION:2.0
PRODID:icalendar-ruby
CALSCALE:GREGORIAN
METHOD:PUBLISH
BEGIN:VEVENT
DTSTAMP:20260421T032458Z
UID:event-239333@stampinup.net
DTSTART;TZID=America/Phoenix:20241114T090000
DTEND;TZID=America/Phoenix:20241114T120000
CREATED:20241111T162031
DESCRIPTION:\n\nEvent link: https://stampinup.net/crm/events/239333
LAST-MODIFIED:20241111T162031
LOCATION:my home
ORGANIZER;CN=Vickie Sanders:mailto:vicksand99@gmail.com
SUMMARY:Ornament Class
URL;VALUE=URI:https://stampinup.net/crm/events/239333
END:VEVENT
END:VCALENDAR
