BEGIN:VCALENDAR
VERSION:2.0
PRODID:icalendar-ruby
CALSCALE:GREGORIAN
METHOD:PUBLISH
BEGIN:VEVENT
DTSTAMP:20260425T104431Z
UID:event-239146@stampinup.net
DTSTART;TZID=America/New_York:20241210T190000
DTEND;TZID=America/New_York:20241210T210000
CREATED:20241109T082408
DESCRIPTION:Purchase the starter kit from Denise Donald and you can attend 
 this fantastic event.  A fun and informative night for the community of C
 raftD Stampers. This month's theme is Christmas. Please bring swap cards. 
 (ask Denise for more details about how many and what the theme is)   \nR
 SVP is mandatory as there is a make n take and we wouldn't want to not hav
 e enough supplies for you to make a craft. \nTickets: Be a Current member
  or ask me how to purchase the starter kit.\n\nEvent link: https://stampin
 up.net/crm/events/239146
LAST-MODIFIED:20241109T082408
LOCATION:Karen's Craft Room\, Paris\, Ontario
ORGANIZER;CN=Denise Donald:mailto:craftdbear@rogers.com
SUMMARY:CraftD Cubs Create
URL;VALUE=URI:https://stampinup.net/crm/events/239146
END:VEVENT
END:VCALENDAR
