BEGIN:VCALENDAR
VERSION:2.0
PRODID:icalendar-ruby
CALSCALE:GREGORIAN
METHOD:PUBLISH
BEGIN:VEVENT
DTSTAMP:20260422T214504Z
UID:event-239133@stampinup.net
DTSTART;TZID=America/Los_Angeles:20241107T160000
DTEND;TZID=America/Los_Angeles:20241107T170000
CREATED:20241108T162233
DESCRIPTION:Open house is a monthly get together for my customers\, downlin
 e\, friends and family.  Come make a card.  It's free!\n\nJust RSVP no l
 ater than two days before the event\,\n\nEvent link: https://stampinup.net
 /crm/events/239133
LAST-MODIFIED:20241108T162233
LOCATION:My Studio
ORGANIZER;CN=Beverlee Morales:mailto:mofun44@icloud.com
SUMMARY:Open House
URL;VALUE=URI:https://stampinup.net/crm/events/239133
END:VEVENT
END:VCALENDAR
