BEGIN:VCALENDAR
VERSION:2.0
PRODID:icalendar-ruby
CALSCALE:GREGORIAN
METHOD:PUBLISH
BEGIN:VEVENT
DTSTAMP:20260420T050825Z
UID:event-239109@stampinup.net
DTSTART;VALUE=DATE:20241101
DTEND;VALUE=DATE:20241101
CREATED:20241107T202122
DESCRIPTION:NOVEMBER T.V. Club - You will join with a purchase of the mont
 hly Feature Product (Option 2 Reindeer Fun) then register HERE. Once you h
 ave registered\, you will be invited to join the Private FB Group (with fo
 rever access to the content) of the month.\nLast day to join: November 25t
 h\n\nEvent link: https://stampinup.net/crm/events/239109
LAST-MODIFIED:20241107T202122
LOCATION:Comfort of your home
ORGANIZER;CN=Angela Waters:mailto:aftersunrise@hotmail.com
SUMMARY:T.V. Club - Reindeer Fun
URL;VALUE=URI:https://stampinup.net/crm/events/239109
END:VEVENT
END:VCALENDAR
