BEGIN:VCALENDAR
VERSION:2.0
PRODID:icalendar-ruby
CALSCALE:GREGORIAN
METHOD:PUBLISH
BEGIN:VEVENT
DTSTAMP:20260419T160647Z
UID:event-238699@stampinup.net
DTSTART;TZID=America/Chicago:20241126T180000
DTEND;TZID=America/Chicago:20241126T190000
CREATED:20241101T182035
DESCRIPTION:Live event on Facebook: Tuesday\, November 26\nDeadline to regi
 ster: Friday\, November 1\nLink to register: https://bit.ly/reindeerdaysbu
 yandtry\nFill out the form and contact Amy to set up payment.\n\n​When y
 ou Buy\, you receive the following:\n-Reindeer Days Memories &amp\; More C
 ard Pack\n-Basic White Assorted Memories &amp\; More Cards &amp\; Envelope
 s\n-Extra supplies I provide\n\n\nYou Make:\n-5 cards\n-2 mini cards\n\n
 ​You provide:\n-Adhesives\n\n​Your cost:\n$30\, add $10 if shipping\n\
 n​\nCost for Nutso Average Stampers team members: $8 (includes shipping 
 of extra supplies)\n\n \n\nEvent link: https://stampinup.net/crm/events/2
 38699
LAST-MODIFIED:20241101T182035
LOCATION:Live on Facebook or anytime later
ORGANIZER;CN=Amy Rich:mailto:stampinnut@me.com
SUMMARY:Reindeer Days Memories & More
URL;VALUE=URI:https://stampinup.net/crm/events/238699
END:VEVENT
END:VCALENDAR
