BEGIN:VCALENDAR
VERSION:2.0
PRODID:icalendar-ruby
CALSCALE:GREGORIAN
METHOD:PUBLISH
BEGIN:VEVENT
DTSTAMP:20260422T100801Z
UID:event-238454@stampinup.net
DTSTART;VALUE=DATE:20250313
DTEND;VALUE=DATE:20250315
CREATED:20241029T083218
DESCRIPTION:Ik ben hier heerlijk aan het genieten van 3 dagen stempelhemel 
 \;). Nieuwe producten\, de nieuwe catalogus en heel veel leuke mensen ontm
 oeten.\n\nEvent link: https://stampinup.net/crm/events/238454
LAST-MODIFIED:20241029T083218
LOCATION:Straatsburg Frankrijk
ORGANIZER;CN=Ingrid Heijnen:mailto:korucreativitijd@gmail.com
SUMMARY:OnStage in Straatsburg - Frankrijk
URL;VALUE=URI:https://stampinup.net/crm/events/238454
END:VEVENT
END:VCALENDAR
