BEGIN:VCALENDAR
VERSION:2.0
PRODID:icalendar-ruby
CALSCALE:GREGORIAN
METHOD:PUBLISH
BEGIN:VEVENT
DTSTAMP:20260422T062216Z
UID:event-238183@stampinup.net
DTSTART;TZID=America/New_York:20241116T090000
DTEND;TZID=America/New_York:20241116T180000
CREATED:20241023T172802
DESCRIPTION:This is a fun filled crop day.  Bring your crafting projects a
 nd a small dish for our potluck lunch.  Please bring your serving spoon o
 r tongs for your dish. \n There will be a make n take.  \nI will have 
 coffee\, tea and water.  I will also provide paper plates and cutlery. 
  \nPlease bring your reuseable drinking cup.  \nCost is only $15.00 \n
 \nEvent link: https://stampinup.net/crm/events/238183
LAST-MODIFIED:20241023T172802
LOCATION:North Dumfries Community Complex\, 2958 Greenfield Rd
ORGANIZER;CN=Denise Donald:mailto:craftdbear@rogers.com
SUMMARY:Crop with CraftD 
URL;VALUE=URI:https://stampinup.net/crm/events/238183
END:VEVENT
END:VCALENDAR
