BEGIN:VCALENDAR
VERSION:2.0
PRODID:icalendar-ruby
CALSCALE:GREGORIAN
METHOD:PUBLISH
BEGIN:VEVENT
DTSTAMP:20260425T011339Z
UID:event-237922@stampinup.net
DTSTART;TZID=Australia/Brisbane:20241102T110000
DTEND;TZID=Australia/Brisbane:20241102T113000
CREATED:20241019T200308
DESCRIPTION:12 Days of Christmas\n\nEvent link: https://stampinup.net/crm/e
 vents/237922
LAST-MODIFIED:20241019T200308
ORGANIZER;CN=Julia Quinn:mailto:julia@handmadebyjuliaquinn.com
SUMMARY:Global Share Fair Video
URL;VALUE=URI:https://stampinup.net/crm/events/237922
END:VEVENT
END:VCALENDAR
