BEGIN:VCALENDAR
VERSION:2.0
PRODID:icalendar-ruby
CALSCALE:GREGORIAN
METHOD:PUBLISH
BEGIN:VEVENT
DTSTAMP:20260425T204508Z
UID:event-237921@stampinup.net
DTSTART;TZID=Australia/Brisbane:20241126T100000
DTEND;TZID=Australia/Brisbane:20241126T120000
CREATED:20241019T200150
DESCRIPTION:Do you need some special Christmas Cards?  Come to our Christm
 as Cardmaking class and create 3 gorgeous cards to give to those who are s
 pecial to you.  All materials supplied including envelopes.  You only ne
 ed to bring along your favourite adhesives and scissors.  3 choices of ti
 mes for the same class. \nThursday 17th October \nFriday 18th October\nT
 uesday 22nd October\nPlease RSVP to me on 0409 873 820 to secure your spot
  as space is limited\n \n\nEvent link: https://stampinup.net/crm/events/2
 37921
LAST-MODIFIED:20241019T200150
LOCATION:My Home\, 31 Sugar View Lane Rosemount
ORGANIZER;CN=Julia Quinn:mailto:julia@handmadebyjuliaquinn.com
SUMMARY:Christmas Cardmaking Class
URL;VALUE=URI:https://stampinup.net/crm/events/237921
END:VEVENT
END:VCALENDAR
