BEGIN:VCALENDAR
VERSION:2.0
PRODID:icalendar-ruby
CALSCALE:GREGORIAN
METHOD:PUBLISH
BEGIN:VEVENT
DTSTAMP:20260422T100751Z
UID:event-237687@stampinup.net
DTSTART;TZID=America/New_York:20241023T130000
DTEND;TZID=America/New_York:20241023T150000
CREATED:20241015T210804
DESCRIPTION:You are invited to join me for my Annual Christmas Tag Stamp-a-
 Stack Class. We will make 15 Christmas gift tags (five each of three desig
 ns). \n\n \n\nDate:      Wednesday\, October 23 @ 1:00 PM\n\n     
                               OR\n\n              
  Sunday\, October 27 @ 1:00\n\nLocation:  Hawthorne\, NY\n\nClass Fee: 
 $16.00\, RSVP and pre-pay by       Mon.\, 10/21\n\n \n\nDouble the fu
 n--bring a friend (must RSVP and prepay).\n\n \n\nBring your own adhesive
 . Tombow will be available for sale at class if you need it.\n\n \n\nRefr
 eshments served after class.\n\n \n\nLisa\n\n\n\n \n\n\nEvent link: http
 s://stampinup.net/crm/events/237687
LAST-MODIFIED:20241015T210804
LOCATION:Hawthorne\, NY
ORGANIZER;CN=Lisa Eisner:mailto:lisawhs808@aol.com
SUMMARY:Christmas Tag Stamp-a-Stack
URL;VALUE=URI:https://stampinup.net/crm/events/237687
END:VEVENT
END:VCALENDAR
