BEGIN:VCALENDAR
VERSION:2.0
PRODID:icalendar-ruby
CALSCALE:GREGORIAN
METHOD:PUBLISH
BEGIN:VEVENT
DTSTAMP:20260420T164107Z
UID:event-237338@stampinup.net
DTSTART;TZID=America/Denver:20241019T100000
DTEND;TZID=America/Denver:20241019T140000
CREATED:20241009T201335
DESCRIPTION:Join us for the afternoon!  We will be creating 12 cards (3 of
  4 designs).  All supplies included - lunch - fun!  Please bring your fa
 vorite adhesive and scissors.  Cost is $40 or free with a $50 order.\n\nE
 vent link: https://stampinup.net/crm/events/237338
LAST-MODIFIED:20241009T201904
LOCATION:Locomotive Inn in Laurel Montana\, 310 S 1st Ave.\, Laurel\, MT
ORGANIZER;CN=Sheila Barthel:mailto:shebarthel@msn.com
SUMMARY:October Card Class!
URL;VALUE=URI:https://stampinup.net/crm/events/237338
END:VEVENT
END:VCALENDAR
