BEGIN:VCALENDAR
VERSION:2.0
PRODID:icalendar-ruby
CALSCALE:GREGORIAN
METHOD:PUBLISH
BEGIN:VEVENT
DTSTAMP:20260424T235359Z
UID:event-237129@stampinup.net
DTSTART;TZID=America/Chicago:20241028T193000
DTEND;TZID=America/Chicago:20241028T200000
CREATED:20241007T115112
DESCRIPTION:I take suggestions for my lives!  What would YOU like to see m
 e talk about?\n\nEmail me at Susan@northstarstamper.com\n\nEvent link: htt
 ps://stampinup.net/crm/events/237129
LAST-MODIFIED:20241007T115112
ORGANIZER;CN=Susan Kremer:mailto:tsvak.mn@netzero.net
SUMMARY:Facebook Live!
URL;VALUE=URI:https://stampinup.net/crm/events/237129
END:VEVENT
END:VCALENDAR
