BEGIN:VCALENDAR
VERSION:2.0
PRODID:icalendar-ruby
CALSCALE:GREGORIAN
METHOD:PUBLISH
BEGIN:VEVENT
DTSTAMP:20260420T220852Z
UID:event-237068@stampinup.net
DTSTART;TZID=America/Phoenix:20241014T100000
DTEND;TZID=America/Phoenix:20241014T110000
CREATED:20241007T071945
DESCRIPTION:Let's unbox our paper pumpkin kits together and I'll provide 2 
 additional projects you can make with your kit stamps. \nClass fee $10.\n
 You do not have to have the current box to attend but the projects will be
  designed to coordinate. Bring your basic supplies\, black ink\, your favo
 rite stamp sets and greeting sets.\n\nEvent link: https://stampinup.net/cr
 m/events/237068
LAST-MODIFIED:20241007T071945
LOCATION:My house
ORGANIZER;CN=Kelly Rose:mailto:roseyscrapper@gmail.com
SUMMARY:Paper Pumpkin Class
URL;VALUE=URI:https://stampinup.net/crm/events/237068
END:VEVENT
END:VCALENDAR
