BEGIN:VCALENDAR
VERSION:2.0
PRODID:icalendar-ruby
CALSCALE:GREGORIAN
METHOD:PUBLISH
BEGIN:VEVENT
DTSTAMP:20260420T032542Z
UID:event-236955@stampinup.net
DTSTART;TZID=America/Chicago:20241018T100000
DTEND;TZID=America/Chicago:20241019T160000
CREATED:20241005T080011
DESCRIPTION:This is my 8th year as a vendor at this show!\nI would love to 
 see &amp\; talk with you again this year\, so be sure to stop by my booth!
   I will have tons of retired Stampin' Up! products as well as New Produc
 t displays... did I mention KITS??  Oh yea! they are HOT and I have a LOT
 !\n\nBe sure to say "Hi\, Angela - I'm (insert you name) and I'm on your m
 ailing list"!  I will have a small gift just for you!!\n\nI will have a S
 how Ordering Special and the Make &amp\; Take Night Party is going to be a
 wesome!!  \n\nEvent link: https://stampinup.net/crm/events/236955
LAST-MODIFIED:20241005T080011
LOCATION:Sevierville Covention Center\, 202 Gists Creek Road\, Sevierville\
 , TN
ORGANIZER;CN=Angela Waters:mailto:aftersunrise@hotmail.com
SUMMARY:Smoky Mountain Rubber Stamp and Scrapbook Getaway
URL;VALUE=URI:https://stampinup.net/crm/events/236955
END:VEVENT
END:VCALENDAR
